BEGIN:VCALENDAR
VERSION:2.0
PRODID:icalendar-ruby
CALSCALE:GREGORIAN
METHOD:PUBLISH
BEGIN:VEVENT
DTSTAMP:20260422T114754Z
UID:922-668360@holytrinityns.org
DTSTART:20260429T210000Z
DTEND:20260429T213000Z
CLASS:PUBLIC
CREATED:20260421T144746
DESCRIPTION:This a Celtic prayer service written and used by the Community 
 of the Iona Abbey in Scotland.  You are invited to join our community in 
 praying to God our Creator for justice and peace at such a time as this. 
  Anyone is welcome to join in.  \n \nPhoto by Tori Nefores on Unsplash
LAST-MODIFIED:20260421T144746
LOCATION:church
SUMMARY:Afternoon Prayers for Justice and Peace
URL;VALUE=URI:https://holytrinityns.org/events/afternoon-prayers-for-justic
 e-and-peace/2026-04-29
ATTACH;FILENAME=tori-nefores-Gsv-sBfpZ-k-unsplash.jpg;FMTTYPE=image/jpeg:ht
 tps://dq5pwpg1q8ru0.cloudfront.net/2026/04/21/21/47/45/dc153a36-144c-4481-
 8192-6acca35dce30/tori-nefores-Gsv-sBfpZ-k-unsplash.jpg
END:VEVENT
END:VCALENDAR
